BEGIN:VCALENDAR
VERSION:2.0
PRODID:-//wp-events-plugin.com//7.2.3.1//EN
TZID:Europe/Vienna
X-WR-TIMEZONE:Europe/Vienna
BEGIN:VEVENT
UID:3@austria.seu-archives.org
DTSTART;TZID=Europe/Vienna;VALUE=DATE:20230323
DTEND;TZID=Europe/Vienna;VALUE=DATE:20230325
DTSTAMP:20250312T071330Z
URL:https://austria.seu-archives.org/em/events/the-wu-gender-and-diversity
 -conference-2023/
SUMMARY:The WU Gender and Diversity Conference 2023
DESCRIPTION:Examining the influence of the socio-political context on diver
 sity and inclusion in organizations SIETAR Austria in collaboration with t
 he WU Institute for Gender and Diversity in Organizations invites you to t
 he following free event\, The WU Gender and Diversity (hybrid) conference 
 in the beautiful city of Vienna. We invite scholars\, students\, organizat
 ions and practitioners to submit proposals that critically discuss diversi
 ty and inclusion in organizations\, and the associated issues and opportun
 ities in relation to the...\n\nhttps://austria.seu-archives.org/em/events/
 the-wu-gender-and-diversity-conference-2023/
LOCATION:WU\, Vienna University of Economics and Business\, Welthandelsplat
 z 1\, Vienna\, 1020 \, Austria
X-APPLE-STRUCTURED-LOCATION;VALUE=URI;X-ADDRESS=Welthandelsplatz 1\, Vienna
 \, 1020 \, Austria;X-APPLE-RADIUS=100;X-TITLE=WU\, Vienna University of Ec
 onomics and Business:geo:0,0
END:VEVENT
BEGIN:VTIMEZONE
TZID:Europe/Vienna
X-LIC-LOCATION:Europe/Vienna
BEGIN:STANDARD
DTSTART:20221030T020000
TZOFFSETFROM:+0200
TZOFFSETTO:+0100
TZNAME:CET
END:STANDARD
END:VTIMEZONE
END:VCALENDAR