BEGIN:VCALENDAR
VERSION:2.0
PRODID:-//wp-events-plugin.com//7.2.3.1//EN
TZID:Europe/Vienna
X-WR-TIMEZONE:Europe/Vienna
BEGIN:VEVENT
UID:15@austria.seu-archives.org
DTSTART;TZID=Europe/Vienna:20231109T183000
DTEND;TZID=Europe/Vienna:20231109T193000
DTSTAMP:20250312T071330Z
URL:https://austria.seu-archives.org/em/events/outsourcing-european-border
 s-interkulturelles-filmemachen-in-niger/
SUMMARY:Outsourcing European Borders – interkulturelles Filmemachen in Ni
 ger
DESCRIPTION:We would like to invite you for our next “Culture Talk” wit
 h the title “Outsourcing European Borders – interkulturelles Filmemach
 en in Niger“ will be held online in German on Thu.\, 9th November from 6
 :30 p.m.– 7:30 p.m. (CET) by Gabriela Schild and Gerald Igor Hauzenberge
 r\, who were shooting a documentary film in Agadez at the time of the mili
 tary coup last August. Please access the roundtable via Zoom using the fol
 lowing information: https://lnkd.in/dJ66HfdC Meeting ID:...\n\nhttps://aus
 tria.seu-archives.org/em/events/outsourcing-european-borders-interkulturel
 les-filmemachen-in-niger/
ATTACH;FMTTYPE=image/jpeg:https://austria.seu-archives.org/wp-content/uplo
 ads/2023/11/outsourcing_european_borders_2023.jpg
END:VEVENT
BEGIN:VTIMEZONE
TZID:Europe/Vienna
X-LIC-LOCATION:Europe/Vienna
BEGIN:STANDARD
DTSTART:20231029T020000
TZOFFSETFROM:+0200
TZOFFSETTO:+0100
TZNAME:CET
END:STANDARD
END:VTIMEZONE
END:VCALENDAR