BEGIN:VCALENDAR
VERSION:2.0
PRODID:-//wp-events-plugin.com//7.2.3.1//EN
TZID:Europe/Vienna
X-WR-TIMEZONE:Europe/Vienna
BEGIN:VEVENT
UID:10@austria.seu-archives.org
DTSTART;TZID=Europe/Vienna:20211126T180000
DTEND;TZID=Europe/Vienna:20211126T190000
DTSTAMP:20250312T071330Z
URL:https://austria.seu-archives.org/em/events/multilingualism-matters-the
 -magic-of-language-learning/
SUMMARY:Multilingualism Matters - The Magic of Language Learning
DESCRIPTION:The Magic of Language Learning Tobias Grünfelder / Campoverde 
 is a doctoral student at Zeppelin University\, project manager of the "Tra
 nscultural Caravan" and a magician. In collaboration with the Goethe-Insti
 tut and the German Embassy\, he has worked in various countries as a "magi
 cal ambassador" to promote cultural exchange and to teach the German langu
 age with the help of magic. For his shows and workshops\, he has developed
  magical tools to teach languages in an interactive...\n\nhttps://austria.
 seu-archives.org/em/events/multilingualism-matters-the-magic-of-language-l
 earning/
ATTACH;FMTTYPE=image/jpeg:https://austria.seu-archives.org/wp-content/uplo
 ads/2021/11/Tobias-Grunfelder-Black-White.jpg
END:VEVENT
BEGIN:VTIMEZONE
TZID:Europe/Vienna
X-LIC-LOCATION:Europe/Vienna
BEGIN:STANDARD
DTSTART:20211031T020000
TZOFFSETFROM:+0200
TZOFFSETTO:+0100
TZNAME:CET
END:STANDARD
END:VTIMEZONE
END:VCALENDAR