BEGIN:VCALENDAR
VERSION:2.0
PRODID:-//wp-events-plugin.com//7.2.3.1//EN
TZID:Europe/Vienna
X-WR-TIMEZONE:Europe/Vienna
BEGIN:VEVENT
UID:11@austria.seu-archives.org
DTSTART;TZID=Europe/Vienna:20211118T180000
DTEND;TZID=Europe/Vienna:20211118T190000
DTSTAMP:20250312T071330Z
URL:https://austria.seu-archives.org/em/events/multilingualism-matters-cod
 e-switching-as-a-bilingual-practice/
SUMMARY:Multilingualism Matters - Code Switching as a Bilingual Practice
DESCRIPTION:Education and Career as an Expert 1983-1984: Study stay at Lomo
 nosov University\, Moscow. 1989:1990: Lecturer for the German Language at 
 Instituto Universitario Orientale\, Naples. 1997-1998: Research stay at Br
 atislava\, Novi Sad\, Lublin\, Prague\, Moscow\, Ljubljana. 2000: Habilita
 tion in Slavic linguistics\, thesis "Die Bedingungen der Unflektierbarkeit
  in den slawischen Sprachen" (The conditions of unflectedness in the Slavi
 c languages). Since July 1st\, 2003: Full professor of Slavic linguistics 
 at the Slavic Department\, University of Klagenfurt (Alpen-Adria Universit
 ät...\n\nhttps://austria.seu-archives.org/em/events/multilingualism-matte
 rs-code-switching-as-a-bilingual-practice/
ATTACH;FMTTYPE=image/jpeg:https://austria.seu-archives.org/wp-content/uplo
 ads/2021/11/Dr.-Ursula-Doleschal-Black-White.jpg
END:VEVENT
BEGIN:VTIMEZONE
TZID:Europe/Vienna
X-LIC-LOCATION:Europe/Vienna
BEGIN:STANDARD
DTSTART:20211031T020000
TZOFFSETFROM:+0200
TZOFFSETTO:+0100
TZNAME:CET
END:STANDARD
END:VTIMEZONE
END:VCALENDAR