BEGIN:VCALENDAR
VERSION:2.0
PRODID:-//wp-events-plugin.com//7.2.3.1//EN
TZID:Europe/Vienna
X-WR-TIMEZONE:Europe/Vienna
BEGIN:VEVENT
UID:9@austria.seu-archives.org
DTSTART;TZID=Europe/Vienna:20211202T180000
DTEND;TZID=Europe/Vienna:20211202T190000
DTSTAMP:20250312T071330Z
URL:https://austria.seu-archives.org/em/events/multilingualism-matters-clo
 sing-event/
SUMMARY:Multilingualism Matters - Closing Event
DESCRIPTION:Elite and Folk Bilingualism Patrizia Cordin is Senior Professor
  of Linguistics at the University of Trento and Director of Bilinguismo co
 nta in Trento\, Italy. Her research interests focus on multilingualism\, l
 inguistic variation and contact between languages. Dealing with these topi
 cs\, she combines research on local languages\, historical minority langua
 ges\, recent minority languages and standard languages. &nbsp\; Register v
 ia Zoom here.\n\nhttps://austria.seu-archives.org/em/events/multilingualis
 m-matters-closing-event/
ATTACH;FMTTYPE=image/jpeg:https://austria.seu-archives.org/wp-content/uplo
 ads/2021/11/Patrizia-Cordin-Profile-Black-White-1.jpg
END:VEVENT
BEGIN:VTIMEZONE
TZID:Europe/Vienna
X-LIC-LOCATION:Europe/Vienna
BEGIN:STANDARD
DTSTART:20211031T020000
TZOFFSETFROM:+0200
TZOFFSETTO:+0100
TZNAME:CET
END:STANDARD
END:VTIMEZONE
END:VCALENDAR