BEGIN:VCALENDAR
VERSION:2.0
PRODID:-//wp-events-plugin.com//7.2.3.1//EN
TZID:Europe/Vienna
X-WR-TIMEZONE:Europe/Vienna
BEGIN:VEVENT
UID:2@austria.seu-archives.org
DTSTART;TZID=Europe/Vienna:20230504T180000
DTEND;TZID=Europe/Vienna:20230504T193000
DTSTAMP:20250312T071330Z
URL:https://austria.seu-archives.org/em/events/culture-talk/
SUMMARY:Culture talk
DESCRIPTION:We would like to invite you to our first online “Culture tal
 k” held by Magdalena Berecki on the topic: “How to leverage study ab
 road experiences for intercultural competence: challenges and opportunitie
 s”. The event will take place on 04.05.23 at 18:00 – 19:30 CET.  Link
  to register the event here Link to join the online event please click her
 e Magdalena Berecki is an intercultural trainer and lecturer\, as well as
  higher education administrator. Her academic background includes degrees 
 in translation...\n\nhttps://austria.seu-archives.org/em/events/culture-ta
 lk/
ATTACH;FMTTYPE=image/jpeg:https://austria.seu-archives.org/wp-content/uplo
 ads/2018/05/Speaker-8.png
END:VEVENT
BEGIN:VTIMEZONE
TZID:Europe/Vienna
X-LIC-LOCATION:Europe/Vienna
BEGIN:DAYLIGHT
DTSTART:20230326T030000
TZOFFSETFROM:+0100
TZOFFSETTO:+0200
TZNAME:CEST
END:DAYLIGHT
END:VTIMEZONE
END:VCALENDAR